Package: Uniquorn Version: 2.29.2 Command: /home/biocbuild/bbs-3.22-bioc/R/bin/R CMD build --keep-empty-dirs --no-resave-data --md5 Uniquorn StartedAt: 2025-10-24 20:47:19 -0400 (Fri, 24 Oct 2025) EndedAt: 2025-10-24 20:47:58 -0400 (Fri, 24 Oct 2025) EllapsedTime: 39.0 seconds RetCode: 0 Status: OK PackageFile: Uniquorn_2.29.2.tar.gz PackageFileSize: 2.198 MiB