Package: UniProt.ws Version: 2.49.4 Command: /home/biocbuild/bbs-3.22-bioc/R/bin/R CMD INSTALL UniProt.ws StartedAt: 2025-10-24 15:42:14 -0400 (Fri, 24 Oct 2025) EndedAt: 2025-10-24 15:42:28 -0400 (Fri, 24 Oct 2025) EllapsedTime: 14.0 seconds RetCode: 0 Status: OK