Package: UniProt.ws Version: 2.49.4 Command: /Library/Frameworks/R.framework/Resources/bin/R CMD build --keep-empty-dirs --no-resave-data UniProt.ws StartedAt: 2025-10-24 19:09:51 -0400 (Fri, 24 Oct 2025) EndedAt: 2025-10-24 19:10:27 -0400 (Fri, 24 Oct 2025) EllapsedTime: 36.6 seconds RetCode: 0 Status: OK PackageFile: UniProt.ws_2.49.4.tar.gz PackageFileSize: 241 KiB