Package: UniProt.ws Version: 2.49.4 Command: rm -rf UniProt.ws.buildbin-libdir && mkdir UniProt.ws.buildbin-libdir && /Users/biocbuild/BBS/utils/build-universal.sh UniProt.ws_2.49.4.tar.gz /Library/Frameworks/R.framework/Resources/bin/R UniProt.ws.buildbin-libdir StartedAt: 2025-10-25 02:09:59 -0400 (Sat, 25 Oct 2025) EndedAt: 2025-10-25 02:10:21 -0400 (Sat, 25 Oct 2025) EllapsedTime: 22.2 seconds RetCode: 0 Status: OK PackageFile: UniProt.ws_2.49.4.tgz PackageFileSize: 496.3 KiB