Package: UniProt.ws Version: 2.49.4 Command: /Library/Frameworks/R.framework/Resources/bin/R CMD INSTALL UniProt.ws StartedAt: 2025-10-24 15:12:32 -0400 (Fri, 24 Oct 2025) EndedAt: 2025-10-24 15:12:41 -0400 (Fri, 24 Oct 2025) EllapsedTime: 8.7 seconds RetCode: 0 Status: OK