Package: UniProt.ws Version: 2.49.4 Command: rm -rf UniProt.ws.buildbin-libdir && mkdir UniProt.ws.buildbin-libdir && /Users/biocbuild/BBS/utils/build-universal.sh UniProt.ws_2.49.4.tar.gz /Library/Frameworks/R.framework/Resources/bin/R UniProt.ws.buildbin-libdir StartedAt: 2025-10-24 23:23:32 -0400 (Fri, 24 Oct 2025) EndedAt: 2025-10-24 23:23:39 -0400 (Fri, 24 Oct 2025) EllapsedTime: 7.2 seconds RetCode: 0 Status: OK PackageFile: UniProt.ws_2.49.4.tgz PackageFileSize: 496.6 KiB