Package: Ularcirc Version: 1.28.0 Command: /Library/Frameworks/R.framework/Resources/bin/R CMD INSTALL Ularcirc StartedAt: 2025-10-31 15:44:00 -0400 (Fri, 31 Oct 2025) EndedAt: 2025-10-31 15:44:14 -0400 (Fri, 31 Oct 2025) EllapsedTime: 13.5 seconds RetCode: 0 Status: OK