Package: Ularcirc Version: 1.28.0 Command: /Library/Frameworks/R.framework/Resources/bin/R CMD build --keep-empty-dirs --no-resave-data Ularcirc StartedAt: 2025-11-02 19:12:40 -0500 (Sun, 02 Nov 2025) EndedAt: 2025-11-02 19:12:56 -0500 (Sun, 02 Nov 2025) EllapsedTime: 15.9 seconds RetCode: 0 Status: OK PackageFile: Ularcirc_1.28.0.tar.gz PackageFileSize: 5.217 MiB