Package: Ularcirc Version: 1.27.2 Command: /Library/Frameworks/R.framework/Resources/bin/R CMD INSTALL Ularcirc StartedAt: 2025-10-24 15:24:03 -0400 (Fri, 24 Oct 2025) EndedAt: 2025-10-24 15:24:07 -0400 (Fri, 24 Oct 2025) EllapsedTime: 4.2 seconds RetCode: 0 Status: OK