Package: Ularcirc Version: 1.27.2 Command: /Library/Frameworks/R.framework/Resources/bin/R CMD build --keep-empty-dirs --no-resave-data Ularcirc StartedAt: 2025-10-24 18:04:14 -0400 (Fri, 24 Oct 2025) EndedAt: 2025-10-24 18:04:20 -0400 (Fri, 24 Oct 2025) EllapsedTime: 6.1 seconds RetCode: 0 Status: OK PackageFile: Ularcirc_1.27.2.tar.gz PackageFileSize: 5.217 MiB