Package: Ularcirc Version: 1.28.0 Maintainer: David Humphreys MaintainerEmail: d.humphreys at victorchang.edu.au git_url: https://git.bioconductor.org/packages/Ularcirc git_branch: RELEASE_3_22 git_last_commit: e6f04b4 git_last_commit_date: 2025-10-29 10:45:47 -0400 (Wed, 29 Oct 2025)