Package: UPDhmm Version: 1.5.1 Command: /home/biocbuild/bbs-3.22-bioc/R/bin/R CMD INSTALL UPDhmm StartedAt: 2025-10-24 15:52:00 -0400 (Fri, 24 Oct 2025) EndedAt: 2025-10-24 15:52:03 -0400 (Fri, 24 Oct 2025) EllapsedTime: 2.1 seconds RetCode: 0 Status: OK