Package: UMI4Cats Version: 1.19.3 Command: /home/biocbuild/bbs-3.22-bioc/R/bin/R CMD INSTALL UMI4Cats StartedAt: 2025-10-24 16:02:19 -0400 (Fri, 24 Oct 2025) EndedAt: 2025-10-24 16:02:57 -0400 (Fri, 24 Oct 2025) EllapsedTime: 38.8 seconds RetCode: 0 Status: OK