Package: UMI4Cats Version: 1.19.3 Command: /home/biocbuild/bbs-3.22-bioc/R/bin/R CMD build --keep-empty-dirs --no-resave-data --md5 UMI4Cats StartedAt: 2025-10-24 20:46:59 -0400 (Fri, 24 Oct 2025) EndedAt: 2025-10-24 20:48:45 -0400 (Fri, 24 Oct 2025) EllapsedTime: 106.1 seconds RetCode: 0 Status: OK PackageFile: UMI4Cats_1.19.3.tar.gz PackageFileSize: 3.776 MiB