Package: UCSC.utils Version: 1.5.0 Command: /home/biocbuild/R/R/bin/R CMD INSTALL UCSC.utils StartedAt: 2025-10-23 20:31:09 -0000 (Thu, 23 Oct 2025) EndedAt: 2025-10-23 20:31:15 -0000 (Thu, 23 Oct 2025) EllapsedTime: 6.0 seconds RetCode: 0 Status: OK