Package: UCSC.utils Version: 1.5.1 Command: /home/biocbuild/bbs-3.22-bioc/R/bin/R CMD check --install=check:UCSC.utils.install-out.txt --library=/home/biocbuild/bbs-3.22-bioc/R/site-library --timings UCSC.utils_1.5.1.tar.gz StartedAt: 2025-10-28 05:11:49 -0400 (Tue, 28 Oct 2025) EndedAt: 2025-10-28 05:12:54 -0400 (Tue, 28 Oct 2025) EllapsedTime: 65.0 seconds RetCode: 0 Status: OK CheckDir: UCSC.utils.Rcheck Warnings: 0