Package: UCSC.utils Version: 1.5.0 Command: /Library/Frameworks/R.framework/Resources/bin/R CMD INSTALL UCSC.utils StartedAt: 2025-10-24 15:22:26 -0400 (Fri, 24 Oct 2025) EndedAt: 2025-10-24 15:22:33 -0400 (Fri, 24 Oct 2025) EllapsedTime: 7.7 seconds RetCode: 0 Status: OK