Package: UCSC.utils Version: 1.5.1 Command: /Library/Frameworks/R.framework/Resources/bin/R CMD build --keep-empty-dirs --no-resave-data UCSC.utils StartedAt: 2025-10-27 19:03:24 -0400 (Mon, 27 Oct 2025) EndedAt: 2025-10-27 19:03:40 -0400 (Mon, 27 Oct 2025) EllapsedTime: 15.9 seconds RetCode: 0 Status: OK PackageFile: UCSC.utils_1.5.1.tar.gz PackageFileSize: 230.4 KiB