Package: TurboNorm Version: 1.57.0 Command: /home/biocbuild/bbs-3.22-bioc/R/bin/R CMD INSTALL TurboNorm StartedAt: 2025-10-24 15:24:07 -0400 (Fri, 24 Oct 2025) EndedAt: 2025-10-24 15:24:12 -0400 (Fri, 24 Oct 2025) EllapsedTime: 4.7 seconds RetCode: 0 Status: OK