Package: TurboNorm Version: 1.57.0 Command: /Library/Frameworks/R.framework/Resources/bin/R CMD build --keep-empty-dirs --no-resave-data TurboNorm StartedAt: 2025-10-24 19:08:42 -0400 (Fri, 24 Oct 2025) EndedAt: 2025-10-24 19:09:04 -0400 (Fri, 24 Oct 2025) EllapsedTime: 21.7 seconds RetCode: 0 Status: OK PackageFile: TurboNorm_1.57.0.tar.gz PackageFileSize: 2.02 MiB