Package: TurboNorm Version: 1.57.0 Command: /Library/Frameworks/R.framework/Resources/bin/R CMD INSTALL TurboNorm StartedAt: 2025-10-27 15:07:23 -0400 (Mon, 27 Oct 2025) EndedAt: 2025-10-27 15:07:25 -0400 (Mon, 27 Oct 2025) EllapsedTime: 2.7 seconds RetCode: 0 Status: OK