Package: TurboNorm Version: 1.58.0 Maintainer: Maarten van Iterson MaintainerEmail: mviterson at gmail.com git_url: https://git.bioconductor.org/packages/TurboNorm git_branch: RELEASE_3_22 git_last_commit: cadb0c6 git_last_commit_date: 2025-10-29 10:06:24 -0400 (Wed, 29 Oct 2025)