Package: Trendy Version: 1.32.0 Command: /home/biocbuild/bbs-3.22-bioc/R/bin/R CMD INSTALL Trendy StartedAt: 2025-10-31 16:02:39 -0400 (Fri, 31 Oct 2025) EndedAt: 2025-10-31 16:03:02 -0400 (Fri, 31 Oct 2025) EllapsedTime: 23.1 seconds RetCode: 0 Status: OK