Package: TreeSummarizedExperiment Version: 2.17.1 Command: /home/biocbuild/R/R/bin/R CMD INSTALL TreeSummarizedExperiment StartedAt: 2025-10-23 20:44:22 -0000 (Thu, 23 Oct 2025) EndedAt: 2025-10-23 20:45:04 -0000 (Thu, 23 Oct 2025) EllapsedTime: 41.4 seconds RetCode: 0 Status: OK