Package: TreeSummarizedExperiment Version: 2.17.1 Command: /home/biocbuild/bbs-3.22-bioc/R/bin/R CMD INSTALL TreeSummarizedExperiment StartedAt: 2025-10-24 15:34:38 -0400 (Fri, 24 Oct 2025) EndedAt: 2025-10-24 15:35:10 -0400 (Fri, 24 Oct 2025) EllapsedTime: 31.8 seconds RetCode: 0 Status: OK