Package: TreeSummarizedExperiment Version: 2.17.1 Command: /home/biocbuild/bbs-3.22-bioc/R/bin/R CMD check --install=check:TreeSummarizedExperiment.install-out.txt --library=/home/biocbuild/bbs-3.22-bioc/R/site-library --timings TreeSummarizedExperiment_2.17.1.tar.gz StartedAt: 2025-10-25 05:07:50 -0400 (Sat, 25 Oct 2025) EndedAt: 2025-10-25 05:13:51 -0400 (Sat, 25 Oct 2025) EllapsedTime: 361.4 seconds RetCode: 0 Status: OK CheckDir: TreeSummarizedExperiment.Rcheck Warnings: 0