Package: TreeSummarizedExperiment Version: 2.17.1 Command: /Library/Frameworks/R.framework/Resources/bin/R CMD INSTALL TreeSummarizedExperiment StartedAt: 2025-10-24 15:31:46 -0400 (Fri, 24 Oct 2025) EndedAt: 2025-10-24 15:32:29 -0400 (Fri, 24 Oct 2025) EllapsedTime: 42.8 seconds RetCode: 0 Status: OK