Package: TreeSummarizedExperiment Version: 2.17.1 Command: /Library/Frameworks/R.framework/Resources/bin/R CMD build --keep-empty-dirs --no-resave-data TreeSummarizedExperiment StartedAt: 2025-10-24 19:07:36 -0400 (Fri, 24 Oct 2025) EndedAt: 2025-10-24 19:08:47 -0400 (Fri, 24 Oct 2025) EllapsedTime: 70.9 seconds RetCode: 0 Status: OK PackageFile: TreeSummarizedExperiment_2.17.1.tar.gz PackageFileSize: 1.103 MiB