Package: TreeSummarizedExperiment Version: 2.17.1 Command: rm -rf TreeSummarizedExperiment.buildbin-libdir && mkdir TreeSummarizedExperiment.buildbin-libdir && /Users/biocbuild/BBS/utils/build-universal.sh TreeSummarizedExperiment_2.17.1.tar.gz /Library/Frameworks/R.framework/Resources/bin/R TreeSummarizedExperiment.buildbin-libdir StartedAt: 2025-10-25 02:09:24 -0400 (Sat, 25 Oct 2025) EndedAt: 2025-10-25 02:10:10 -0400 (Sat, 25 Oct 2025) EllapsedTime: 46.4 seconds RetCode: 0 Status: OK PackageFile: TreeSummarizedExperiment_2.17.1.tgz PackageFileSize: 1.834 MiB