Package: TreeAndLeaf Version: 1.21.0 Command: /home/biocbuild/bbs-3.22-bioc/R/bin/R CMD INSTALL TreeAndLeaf StartedAt: 2025-10-24 15:17:20 -0400 (Fri, 24 Oct 2025) EndedAt: 2025-10-24 15:17:54 -0400 (Fri, 24 Oct 2025) EllapsedTime: 34.3 seconds RetCode: 0 Status: OK