Package: TreeAndLeaf Version: 1.21.0 Command: rm -rf TreeAndLeaf.buildbin-libdir && mkdir TreeAndLeaf.buildbin-libdir && /Users/biocbuild/BBS/utils/build-universal.sh TreeAndLeaf_1.21.0.tar.gz /Library/Frameworks/R.framework/Resources/bin/R TreeAndLeaf.buildbin-libdir StartedAt: 2025-10-25 02:09:22 -0400 (Sat, 25 Oct 2025) EndedAt: 2025-10-25 02:09:31 -0400 (Sat, 25 Oct 2025) EllapsedTime: 9.3 seconds RetCode: 0 Status: OK PackageFile: TreeAndLeaf_1.21.0.tgz PackageFileSize: 3.165 MiB