Package: TreeAndLeaf Version: 1.21.0 Command: /Library/Frameworks/R.framework/Resources/bin/R CMD build --keep-empty-dirs --no-resave-data TreeAndLeaf StartedAt: 2025-10-24 18:01:55 -0400 (Fri, 24 Oct 2025) EndedAt: 2025-10-24 18:02:01 -0400 (Fri, 24 Oct 2025) EllapsedTime: 6.1 seconds RetCode: 0 Status: OK PackageFile: TreeAndLeaf_1.21.0.tar.gz PackageFileSize: 5.627 MiB