Package: TreeAndLeaf Version: 1.22.0 Maintainer: Milena A. Cardoso MaintainerEmail: milenandreuzo at gmail.com git_url: https://git.bioconductor.org/packages/TreeAndLeaf git_branch: RELEASE_3_22 git_last_commit: 1198a67 git_last_commit_date: 2025-10-29 10:56:45 -0400 (Wed, 29 Oct 2025)