Package: TransView Version: 1.53.1 Command: /Library/Frameworks/R.framework/Resources/bin/R CMD INSTALL TransView StartedAt: 2025-10-28 15:10:47 -0400 (Tue, 28 Oct 2025) EndedAt: 2025-10-28 15:10:55 -0400 (Tue, 28 Oct 2025) EllapsedTime: 7.3 seconds RetCode: 0 Status: OK