Package: TransView Version: 1.54.0 Command: /Library/Frameworks/R.framework/Resources/bin/R CMD build --keep-empty-dirs --no-resave-data TransView StartedAt: 2025-10-30 00:27:35 -0400 (Thu, 30 Oct 2025) EndedAt: 2025-10-30 00:27:49 -0400 (Thu, 30 Oct 2025) EllapsedTime: 14.1 seconds RetCode: 0 Status: OK PackageFile: TransView_1.54.0.tar.gz PackageFileSize: 1.821 MiB