Package: TrajectoryUtils Version: 1.17.0 Command: /home/biocbuild/R/R/bin/R CMD INSTALL TrajectoryUtils StartedAt: 2025-10-23 20:44:51 -0000 (Thu, 23 Oct 2025) EndedAt: 2025-10-23 20:45:22 -0000 (Thu, 23 Oct 2025) EllapsedTime: 31.0 seconds RetCode: 0 Status: OK