Package: TrajectoryUtils Version: 1.17.0 Command: /home/biocbuild/R/R/bin/R CMD build --keep-empty-dirs --no-resave-data TrajectoryUtils StartedAt: 2025-10-21 03:49:02 -0000 (Tue, 21 Oct 2025) EndedAt: 2025-10-21 03:49:46 -0000 (Tue, 21 Oct 2025) EllapsedTime: 44.0 seconds RetCode: 0 Status: OK PackageFile: TrajectoryUtils_1.17.0.tar.gz PackageFileSize: 394.4 KiB