Package: TrajectoryUtils Version: 1.17.0 Command: /home/biocbuild/bbs-3.22-bioc/R/bin/R CMD check --install=check:TrajectoryUtils.install-out.txt --library=/home/biocbuild/bbs-3.22-bioc/R/site-library --timings TrajectoryUtils_1.17.0.tar.gz StartedAt: 2025-10-25 05:03:48 -0400 (Sat, 25 Oct 2025) EndedAt: 2025-10-25 05:06:55 -0400 (Sat, 25 Oct 2025) EllapsedTime: 187.1 seconds RetCode: 0 Status: OK CheckDir: TrajectoryUtils.Rcheck Warnings: 0