Package: TrajectoryUtils Version: 1.17.0 Command: /Library/Frameworks/R.framework/Resources/bin/R CMD check --install=check:TrajectoryUtils.install-out.txt --library=/Library/Frameworks/R.framework/Resources/library --no-vignettes --timings TrajectoryUtils_1.17.0.tar.gz StartedAt: 2025-10-28 22:30:55 -0400 (Tue, 28 Oct 2025) EndedAt: 2025-10-28 22:32:07 -0400 (Tue, 28 Oct 2025) EllapsedTime: 71.8 seconds RetCode: 0 Status: OK CheckDir: TrajectoryUtils.Rcheck Warnings: 0