Package: TrajectoryGeometry Version: 1.18.0 Command: /home/biocbuild/R/R/bin/R CMD check --install=check:TrajectoryGeometry.install-out.txt --library=/home/biocbuild/R/R/site-library --no-vignettes --timings TrajectoryGeometry_1.18.0.tar.gz StartedAt: 2025-11-14 15:57:27 -0000 (Fri, 14 Nov 2025) EndedAt: 2025-11-14 16:00:01 -0000 (Fri, 14 Nov 2025) EllapsedTime: 154.4 seconds RetCode: 0 Status: OK CheckDir: TrajectoryGeometry.Rcheck Warnings: 0