Package: TrajectoryGeometry Version: 1.17.0 Command: /Library/Frameworks/R.framework/Resources/bin/R CMD build --keep-empty-dirs --no-resave-data TrajectoryGeometry StartedAt: 2025-10-27 19:00:25 -0400 (Mon, 27 Oct 2025) EndedAt: 2025-10-27 19:05:21 -0400 (Mon, 27 Oct 2025) EllapsedTime: 295.4 seconds RetCode: 0 Status: OK PackageFile: TrajectoryGeometry_1.17.0.tar.gz PackageFileSize: 1.894 MiB