Package: TrajectoryGeometry Version: 1.17.0 Command: /Library/Frameworks/R.framework/Resources/bin/R CMD check --install=check:TrajectoryGeometry.install-out.txt --library=/Library/Frameworks/R.framework/Resources/library --no-vignettes --timings TrajectoryGeometry_1.17.0.tar.gz StartedAt: 2025-10-26 22:09:30 -0400 (Sun, 26 Oct 2025) EndedAt: 2025-10-26 22:09:57 -0400 (Sun, 26 Oct 2025) EllapsedTime: 27.3 seconds RetCode: 0 Status: OK CheckDir: TrajectoryGeometry.Rcheck Warnings: 0