Package: TrajectoryGeometry Version: 1.17.0 Command: /Library/Frameworks/R.framework/Resources/bin/R CMD build --keep-empty-dirs --no-resave-data TrajectoryGeometry StartedAt: 2025-10-26 18:15:07 -0400 (Sun, 26 Oct 2025) EndedAt: 2025-10-26 18:16:39 -0400 (Sun, 26 Oct 2025) EllapsedTime: 91.0 seconds RetCode: 0 Status: OK PackageFile: TrajectoryGeometry_1.17.0.tar.gz PackageFileSize: 1.894 MiB