Package: TitanCNA Version: 1.47.1 Command: /home/biocbuild/bbs-3.22-bioc/R/bin/R CMD INSTALL TitanCNA StartedAt: 2025-10-24 15:56:14 -0400 (Fri, 24 Oct 2025) EndedAt: 2025-10-24 15:56:58 -0400 (Fri, 24 Oct 2025) EllapsedTime: 44.0 seconds RetCode: 0 Status: OK