Package: TitanCNA Version: 1.47.1 Command: /home/biocbuild/bbs-3.22-bioc/R/bin/R CMD build --keep-empty-dirs --no-resave-data --md5 TitanCNA StartedAt: 2025-10-24 20:40:09 -0400 (Fri, 24 Oct 2025) EndedAt: 2025-10-24 20:41:26 -0400 (Fri, 24 Oct 2025) EllapsedTime: 77.1 seconds RetCode: 1 Status: ERROR PackageFile: None PackageFileSize: NA