Package: TissueEnrich Version: 1.29.0 Command: /home/biocbuild/bbs-3.22-bioc/R/bin/R CMD INSTALL TissueEnrich StartedAt: 2025-10-24 15:41:18 -0400 (Fri, 24 Oct 2025) EndedAt: 2025-10-24 15:41:50 -0400 (Fri, 24 Oct 2025) EllapsedTime: 31.7 seconds RetCode: 0 Status: OK