Package: TissueEnrich Version: 1.30.0 Command: /Library/Frameworks/R.framework/Resources/bin/R CMD build --keep-empty-dirs --no-resave-data TissueEnrich StartedAt: 2025-11-03 19:06:12 -0500 (Mon, 03 Nov 2025) EndedAt: 2025-11-03 19:07:13 -0500 (Mon, 03 Nov 2025) EllapsedTime: 60.5 seconds RetCode: 0 Status: OK PackageFile: TissueEnrich_1.30.0.tar.gz PackageFileSize: 3.606 MiB