Package: TissueEnrich Version: 1.30.0 Command: rm -rf TissueEnrich.buildbin-libdir && mkdir TissueEnrich.buildbin-libdir && /Users/biocbuild/BBS/utils/build-universal.sh TissueEnrich_1.30.0.tar.gz /Library/Frameworks/R.framework/Resources/bin/R TissueEnrich.buildbin-libdir StartedAt: 2025-11-04 02:08:47 -0500 (Tue, 04 Nov 2025) EndedAt: 2025-11-04 02:09:34 -0500 (Tue, 04 Nov 2025) EllapsedTime: 46.9 seconds RetCode: 0 Status: OK PackageFile: TissueEnrich_1.30.0.tgz PackageFileSize: 3.628 MiB