Package: TissueEnrich Version: 1.29.0 Command: /Library/Frameworks/R.framework/Resources/bin/R CMD INSTALL TissueEnrich StartedAt: 2025-10-24 15:18:47 -0400 (Fri, 24 Oct 2025) EndedAt: 2025-10-24 15:19:00 -0400 (Fri, 24 Oct 2025) EllapsedTime: 12.3 seconds RetCode: 0 Status: OK