Package: TileDBArray Version: 1.19.1 Command: /home/biocbuild/R/R/bin/R CMD INSTALL TileDBArray StartedAt: 2025-10-23 20:35:11 -0000 (Thu, 23 Oct 2025) EndedAt: 2025-10-23 20:35:12 -0000 (Thu, 23 Oct 2025) EllapsedTime: 1.2 seconds RetCode: 1 Status: ERROR